BEGIN:VCALENDAR
VERSION:2.0
PRODID:-//3nity.com//3nity CMS//EN
BEGIN:VEVENT
SUMMARY:Bible Study
UID:2026-07-18-1209097@www.overcomerinchrist.org
SEQUENCE:0
STATUS:CONFIRMED
DTSTART:20260526T131500
DTEND:20260526T141500
DTSTAMP:20161222T120000
DESCRIPTION:Weekly Bible Study - All are welcome to study with us, we are currently walking through the Gospel of John.
URL:http://www.overcomerinchrist.org
END:VEVENT
END:VCALENDAR
